BEGIN:VCALENDAR
VERSION:2.0
PRODID:-//eventon.com NONSGML v1.0//EN
CALSCALE:GREGORIAN
METHOD:PUBLISH
BEGIN:VEVENT
UID:69ecd3aed0ec2
DTSTAMP:20260425T144606Z
DTSTART:20260423T120000Z
DTEND:20260427T000000Z
LOCATION:
SUMMARY:Apollycon '26
DESCRIPTION:ApollyCon is an annual multi-day author event owned by #1 New Y
 ork Times and Internationally Best Selling author\,  Jennifer L. Armentrout
 . Established in 2015\,  ApollyCon features authors (who write Young Adult 
 and Adult fiction)\,  vendors\,  publishers\,  sponsors\,  and hosts over 1
 \, 000+ readers each year in Washington\,  D.C.\nhttps://jenniaedits.com/ev
 ents/apollycon-26/
URL:https://jenniaedits.com/events/apollycon-26/
END:VEVENT
END:VCALENDAR